BEGIN:VCALENDAR
PRODID:-//eluceo/ical//2.0/EN
VERSION:2.0
CALSCALE:GREGORIAN
BEGIN:VEVENT
UID:hey.bayern.694608.6553467
DTSTAMP:20260420T005515Z
SUMMARY:Verrückt vor Liebe - Oper von Pietro A. Coppola
DTSTART;TZID=Europe/Berlin:20260817T203000
DTEND;TZID=Europe/Berlin:20260818T203000
LOCATION:Amthofgasse 5\, 9062 Feldkirchen in Kärnten\, Österreich
GEO:46.722476;14.092476
X-APPLE-STRUCTURED-LOCATION;VALUE=URI;X-ADDRESS=Amthofgasse 5\, 9062 Feldki
 rchen in Kärnten\, Österreich;X-APPLE-RADIUS=49;X-TITLE=:geo:46.722476,1
 4.092476
URL;VALUE=URI:https://hey.at/events/694608
END:VEVENT
END:VCALENDAR
