BEGIN:VCALENDAR
PRODID:-//eluceo/ical//2.0/EN
VERSION:2.0
CALSCALE:GREGORIAN
BEGIN:VEVENT
UID:hey.bayern.694609.6553471
DTSTAMP:20260420T005633Z
SUMMARY:Wörthersee Cocktail Week | Werzers Badehaus | mit DJ David Lima
DTSTART;TZID=Europe/Berlin:20260508T130000
DTEND;TZID=Europe/Berlin:20260508T180000
LOCATION:Werzerpromenade 8\, 9210 Pörtschach am Wörther See\, Österreich
URL;VALUE=URI:https://hey.at/events/694609
END:VEVENT
END:VCALENDAR
