BEGIN:VCALENDAR
PRODID:-//eluceo/ical//2.0/EN
VERSION:2.0
CALSCALE:GREGORIAN
BEGIN:VEVENT
UID:hey.bayern.694664.6554222
DTSTAMP:20260422T032941Z
SUMMARY:Dichterliebe und mehr... Eine Begegnung
DTSTART;TZID=Europe/Berlin:20260529T190000
DTEND;TZID=Europe/Berlin:20260529T220000
LOCATION:Schlosshof 5\, 5310 Mondsee am Mondsee\, Österreich
GEO:47.857571;13.350240
X-APPLE-STRUCTURED-LOCATION;VALUE=URI;X-ADDRESS=Schlosshof 5\, 5310 Mondsee
  am Mondsee\, Österreich;X-APPLE-RADIUS=49;X-TITLE=:geo:47.857571,13.3502
 40
URL;VALUE=URI:https://hey.at/events/694664
END:VEVENT
END:VCALENDAR
