BEGIN:VCALENDAR
PRODID:-//eluceo/ical//2.0/EN
VERSION:2.0
CALSCALE:GREGORIAN
BEGIN:VEVENT
UID:hey.bayern.694734.6554665
DTSTAMP:20260422T120806Z
SUMMARY:Luaga\, Losna und Stuna: Altes Schualhüsli Bitschweil
DTSTART;TZID=Europe/Berlin:20260726T133000
DTEND;TZID=Europe/Berlin:20260727T133000
LOCATION:Schualhüsli Bitschweil\, Bitschweilstr. 31\, 6774 Tschagguns\, Ö
 sterreich
GEO:47.060100;9.917010
X-APPLE-STRUCTURED-LOCATION;VALUE=URI;X-ADDRESS=Schualhüsli Bitschweil\, B
 itschweilstr. 31\, 6774 Tschagguns\, Österreich;X-APPLE-RADIUS=49;X-TITLE
 =:geo:47.060100,9.917010
URL;VALUE=URI:https://hey.at/events/694734
END:VEVENT
END:VCALENDAR
