BEGIN:VCALENDAR
PRODID:-//eluceo/ical//2.0/EN
VERSION:2.0
CALSCALE:GREGORIAN
BEGIN:VEVENT
UID:hey.bayern.694735.6554674
DTSTAMP:20260422T120806Z
SUMMARY:Luaga\, Losna und Stuna: Schausägen Latschau
DTSTART;TZID=Europe/Berlin:20260710T133000
DTEND;TZID=Europe/Berlin:20260711T133000
LOCATION:Gafazutweg 2\, 6774 Tschagguns\, Österreich
URL;VALUE=URI:https://hey.at/events/694735
END:VEVENT
END:VCALENDAR
