BEGIN:VCALENDAR
PRODID:-//eluceo/ical//2.0/EN
VERSION:2.0
CALSCALE:GREGORIAN
BEGIN:VEVENT
UID:hey.bayern.694755.6554737
DTSTAMP:20260422T015923Z
SUMMARY:QiGong und TaiJi Qian Long Fächer
DTSTART;TZID=Europe/Berlin:20261112T000000
DTEND;TZID=Europe/Berlin:20261112T000000
LOCATION:Lebenspflegeweg 1\, 4164 Schwarzenberg am Böhmerwald\, Österreic
 h
GEO:48.730117;13.831953
X-APPLE-STRUCTURED-LOCATION;VALUE=URI;X-ADDRESS=Lebenspflegeweg 1\, 4164 Sc
 hwarzenberg am Böhmerwald\, Österreich;X-APPLE-RADIUS=49;X-TITLE=:geo:48
 .730117,13.831953
URL;VALUE=URI:https://hey.at/events/694755
END:VEVENT
END:VCALENDAR
